BEGIN:VCALENDAR
VERSION:2.0
PRODID:-//The Haven - ECPv6.15.20//NONSGML v1.0//EN
CALSCALE:GREGORIAN
METHOD:PUBLISH
X-WR-CALNAME:The Haven
X-ORIGINAL-URL:https://www.havenrefuge.org.uk
X-WR-CALDESC:Events for The Haven
REFRESH-INTERVAL;VALUE=DURATION:PT1H
X-Robots-Tag:noindex
X-PUBLISHED-TTL:PT1H
BEGIN:VTIMEZONE
TZID:Europe/London
BEGIN:DAYLIGHT
TZOFFSETFROM:+0000
TZOFFSETTO:+0100
TZNAME:BST
DTSTART:20250330T010000
END:DAYLIGHT
BEGIN:STANDARD
TZOFFSETFROM:+0100
TZOFFSETTO:+0000
TZNAME:GMT
DTSTART:20251026T010000
END:STANDARD
BEGIN:DAYLIGHT
TZOFFSETFROM:+0000
TZOFFSETTO:+0100
TZNAME:BST
DTSTART:20260329T010000
END:DAYLIGHT
BEGIN:STANDARD
TZOFFSETFROM:+0100
TZOFFSETTO:+0000
TZNAME:GMT
DTSTART:20261025T010000
END:STANDARD
BEGIN:DAYLIGHT
TZOFFSETFROM:+0000
TZOFFSETTO:+0100
TZNAME:BST
DTSTART:20270328T010000
END:DAYLIGHT
BEGIN:STANDARD
TZOFFSETFROM:+0100
TZOFFSETTO:+0000
TZNAME:GMT
DTSTART:20271031T010000
END:STANDARD
END:VTIMEZONE
BEGIN:VEVENT
DTSTART;TZID=Europe/London:20260226T190000
DTEND;TZID=Europe/London:20260226T220000
DTSTAMP:20260421T163402
CREATED:20251211T135610Z
LAST-MODIFIED:20260120T151920Z
UID:10000237-1772132400-1772143200@www.havenrefuge.org.uk
SUMMARY:Haven Quiz Night - February 2026
DESCRIPTION:Join us for the first event in our 2026 Haven Quiz Night series!\n\n\n\n\n\nWe’re excited to welcome you back for another year of mid-week fun\, friendly competition and community spirit. Quiz Master Steve Saul returns with his trademark humour and brain-teasing questions. \nRound up your friends\, family or colleagues and head over to Fordhouses Cricket Club. Whether you’re a seasoned quiz-night regular or joining us for the first time\, you’re guaranteed a lively evening. \nEntry: £5 per person | Teams of 4(Ticket admits a team of four for £20 plus a 50p booking fee.) \nExpect raffles\, extra games and plenty of laughter throughout the night. \nWe can’t wait to see you there!For team enquiries\, email give@havenrefuge.org.uk \n\n\n\nImportant Information\nThe bar will be fully stocked with all of your favourite drinks\, crisps and nuts – but please note\, due to the change in venue\, meal orders are no longer possible. Unfortunately\, refunds are not available on team bookings\, however\, if you are not able to make it\, we are happy to transfer your booking to a future quiz night. \nPhotography \n\n\nPlease note\, we will be taking photos and videos on the night of the event. There will be a sign displayed during the event to state this. Photos and videos taken at the event may be used to promote the success of the event and may be shared with third parties (such as local media outlets) to promote future events too. If you do not wish to be included in photos/videos\, please make yourself known to attending photographers\, and to the relevant Haven staff member at any time during the event. On occasion\, The Haven will use external photographers for events who own the official copyright of images. Photography agreements are in place with all photographers used at Haven events to minimise any misuse of imagery and ensure we are being transparent with how your photos are used in line with our GDPR policy. \n  \n 
URL:https://www.havenrefuge.org.uk/event/haven-quiz-night-february-2026/
LOCATION:Fordhouses Cricket Club\, Wobaston Road\, Wolverhampton\, WV9 5HH\, Fordhouses Cricket Club\, Wolverhampton\, WV9 5HH\, United Kingdom
CATEGORIES:Events,Quiz
ATTACH;FMTTYPE=image/png:https://www.havenrefuge.org.uk/wp-content/uploads/2025/12/The-Haven-Website-Fundraising-Events-Header-Templates-1.png
ORGANIZER;CN="The Haven Fundraising":MAILTO:give@havenrefuge.org.uk
END:VEVENT
BEGIN:VEVENT
DTSTART;TZID=Europe/London:20260302T123000
DTEND;TZID=Europe/London:20260302T133000
DTSTAMP:20260421T163402
CREATED:20260131T144757Z
LAST-MODIFIED:20260131T211955Z
UID:10000240-1772454600-1772458200@www.havenrefuge.org.uk
SUMMARY:EMPURPLE MONTH | Domestic Abuse Awareness - Lunch & Learn
DESCRIPTION:A Lunch & Learn for Empurple Month and Women’s History Month \nThis Domestic Abuse Awareness Lunch & Learn is part of our Empurple Month activities\, inviting us to reflect on how far we have come\, and how far we still need to go to protect women\, children\, and survivors of abuse. \nDelivered by The Haven Wolverhampton\, this session explores what domestic abuse really looks like today\, how the law has evolved in response to survivor voices\, and why awareness\, language\, and action still matter. From coercive control and digital abuse to the barriers survivors face when seeking help\, this is a practical\, myth-busting session designed to build understanding and confidence. \nEmpurple Month asks us to Give to Gain; to give time\, attention\, learning\, and advocacy\, so others can gain safety\, dignity\, and choice. \nWhat you’ll learn: \n\nWhat domestic abuse is\, and what it is not\nHow domestic abuse has been recognised and legislated against over time\nThe realities of coercive control and digital abuse today\nWho domestic abuse affects (and why myths are dangerous)\nHow to recognise signs of abuse and respond safely\nWhy language matters\, and how small shifts can remove barriers\n\nWho it’s for: \nAnyone who wants to better understand domestic abuse\, support colleagues or communities with confidence\, and be part of a culture that believes\, listens\, and acts.
URL:https://www.havenrefuge.org.uk/event/empurple-month-domestic-abuse-awareness-lunch-learn/
LOCATION:Online
CATEGORIES:Events,Webinar
ATTACH;FMTTYPE=image/png:https://www.havenrefuge.org.uk/wp-content/uploads/2026/01/The-Haven-Website-Fundraising-Events-Header-Templates-6.png
END:VEVENT
BEGIN:VEVENT
DTSTART;TZID=Europe/London:20260321T090000
DTEND;TZID=Europe/London:20260321T150000
DTSTAMP:20260421T163402
CREATED:20260126T145341Z
LAST-MODIFIED:20260317T110408Z
UID:10000239-1774083600-1774105200@www.havenrefuge.org.uk
SUMMARY:Haven Heights - Charity Abseil
DESCRIPTION:Ready to do something unforgettable? \nJoin us for Haven Heights – Charity Abseil. This is a bold\, exhilarating challenge that will see you descend 98 feet from the iconic Greenhouse at the Custard Factory\, right in the heart of Digbeth. One controlled descent. One powerful act of solidarity. Lasting impact for women and children. \nThis is more than an adrenaline rush. It’s a chance to step right up to the edge\, trust the ropes beneath you\, and take on the height for a cause that truly matters. Lean into your strength to help survivors be seen\, heard\, and safe. Every abseiler who takes part helps The Haven continue providing safety\, refuge\, and specialist support to women and children rebuilding their lives after domestic abuse. \nWhether you’re conquering a fear\, ticking something off your bucket list\, or coming together with friends or colleagues to do something meaningful\, this is an experience you won’t forget in a hurry. Expect nerves\, excitement\, encouragement from below\, and the unbeatable feeling of knowing your bravery is directly supporting others to find safety and stability. \nChoose how you take part We’ve created two flexible ways to join the abseil\, so you can take part in a way that suits you best: \nMorning or Afternoon Session \n• £30 registration fee + £150 minimum sponsorship \n• £90 registration fee + £90 minimum sponsorship \nWith just 50 places available\, this is a unique opportunity to be part of something powerful\, purposeful\, and unforgettable. \nAre you in? \n			 \n				\n				\n				\n			\n			 \n				\n				\n			 \n				\n				\n				\n				\n				\n				\n				Important information \nTicket options \nTo make the abseil as accessible and flexible as possible\, we’re offering two ways to take part in both the morning and afternoon sessions. You can choose a lower registration fee with a higher fundraising target\, or a higher registration fee with a lower fundraising commitment\, whichever suits you best. Both options work towards a shared goal of raising £180 per participant\, helping to cover event costs and generate vital funds for The Haven’s work. Whether you’re excited to fundraise with friends\, family or colleagues\, or prefer to contribute more upfront and fundraise at your own pace\, the choice is yours. However you take part\, every abseiler plays a valuable role in supporting women and children to find safety and stability. \nAge and consentParticipants must meet the minimum weight requirement to take part. Anyone under the age of 18 will need written parental or guardian consent\, and a responsible adult must be present on the day. \nWeight requirementsFor safety reasons\, participants must weigh at least 3.5 stone and no more than 18 stone. \nTime slots and arrivalWhen booking\, please select your preferred time slot. We’ll do our best to accommodate this\, but in some cases we may need to adjust timings and will contact you in advance if this is necessary.All participants must arrive 30 minutes before their allocated slot to attend the mandatory safety briefing. \nAccessibility and supportWe want this event to be as accessible as possible. If you have any mobility considerations or would like to discuss support needs before booking\, please email give@havenrefuge.org.uk and a member of the team will be happy to help. \nSafety and supportThe abseil will be delivered by experienced\, fully trained instructors using professional safety equipment\, with full guidance and supervision provided throughout.
URL:https://www.havenrefuge.org.uk/event/haven-heights-charity-abseil/
LOCATION:The Greenhouse\, Custard Factory\, Digbeth\, United Kingdom
CATEGORIES:Events,Sponsored Challenge
ATTACH;FMTTYPE=image/png:https://www.havenrefuge.org.uk/wp-content/uploads/2026/01/The-Haven-Website-Fundraising-Events-Header-Templates-3.png
END:VEVENT
BEGIN:VEVENT
DTSTART;TZID=Europe/London:20260324T080000
DTEND;TZID=Europe/London:20260324T170000
DTSTAMP:20260421T163403
CREATED:20260324T134101Z
LAST-MODIFIED:20260324T134437Z
UID:10000243-1774339200-1774371600@www.havenrefuge.org.uk
SUMMARY:Take to The Skies 2026
DESCRIPTION:About this Event\n\n\n\n\n\nAre you an adrenaline junkie always looking for the next challenge? Perhaps you or someone you know has taken part in one of our 2023/2024/2025 skydive challenges and you’re feeling inspired? Or maybe you are just looking for the next BIG thing to tick off your bucket list. Well then WE NEED YOU!! Sign up to take part in a skydive on a day of your choice at Langar Airfield in Nottingham and become one of our leap of legends! We will organise your skydive for you on your chosen date\, and will support you on your fundraising journey as you raise vital funds for women and children fleeing domestic abuse and homelessness. \nYou can feel the thrill of a 14\,000ft freefall skydive\, take in the glorious sights from way above\, feel a full adrenaline rush as you reach a 120mph velocity before gently gliding to the ground under the parachute. So many of our previous skydivers can vouch for the amazing adrenaline rush and lifelong memories this challenge will give you. What’s more\, every penny raised will be helping to ensure more vulnerable women and children can flee to safety\, and access the vital care and support services they need to rebuild their lives following the trauma of abuse. So\, are you ready to take on this challenge in 2026? \n     \n\n\nAll skydives include: \n\n\n\nA fully qualified parachuting instructor\nTraining session before your jump\nMemories to last a lifetime\n\nSo whether you are an individual looking for a big bucket list tick\, a group of friends looking for a fun day out\, a business looking for a team building activity\, or a returning Jump 50 challenger looking to re-live that amazing adrenaline rush – this could be the event for you! \n\nChoose a date which suits you best\, (time-slots will be arranged closer to the jump date). For each skydive\, there is a £45 registration fee (non-refundable) and you are committing to additionally raising a minimum of £395 in sponsorship (80% of your funds must be raised 4 weeks prior to your jump). Our friendly fundraising team are on hand to support you along your fundraising journey with ideas and support – don’t be afraid to get in touch and ask any questions before signing up too – we are here to help (give@havenrefuge.org.uk). \n\nSo… what are you waiting for? Sign up below! \n\n\n\n\nIMPORTANT INFORMATION \n\n\nPlease note: \n\nfor tandem skydives there is a MAXIMUM WEIGHT (fully clothed) of 95 kg (15 stone) or 83 kg if you are less than 163cm (5ft 4in). This limit is in place for your own safety\nWe are using a third party company for this event and so by signing up to take part\, The Haven will need to share your personal details with the third party company. Only relevant details will be shared and you can read more about how we manage your data here.\n\n\nPhotography \n\n\nPlease note\, we will be taking photos and videos at this event (ground based only). There will be a sign displayed during the event to state this. Photos and videos taken at the event may be used to promote the success of the event and may be shared with third parties (such as local media outlets) to promote future events too. If you do not wish to be included in photos/videos\, please make yourself known to attending photographers\, and to the relevant Haven staff member at any time during the event. On occasion\, The Haven will use external photographers for events who own the official copyright of images. Photography agreements are in place with all photographers used at Haven events to minimise any misuse of imagery and ensure we are being transparent with how your photos are used in line with our GDPR policy. Additional options for photography and videography are available directly via the airfield – we will share further details on how to book this when you sign up. If you are happy to share any of your personal photos with us\, please note\, the above information will apply in terms of how we use them).
URL:https://www.havenrefuge.org.uk/event/take-to-the-skies-2026/
ATTACH;FMTTYPE=image/png:https://www.havenrefuge.org.uk/wp-content/uploads/2024/05/web-image-4.png
END:VEVENT
BEGIN:VEVENT
DTSTART;TZID=Europe/London:20260423T190000
DTEND;TZID=Europe/London:20260423T220000
DTSTAMP:20260421T163403
CREATED:20251211T140207Z
LAST-MODIFIED:20260420T084355Z
UID:10000238-1776970800-1776981600@www.havenrefuge.org.uk
SUMMARY:Haven Quiz Night - April 2026
DESCRIPTION:Join us for the second instalment of our 2026 Haven Quiz Night series! \nAfter a fantastic start to the year\, we’re thrilled to welcome you back for another evening of quiz-tastic fun. Our brilliant Quiz Master Steve Saul returns with a brand-new set of questions\, mid-week entertainment and plenty of laughs – all kindly sponsored by Paycare. \nGather your friends\, family or colleagues and join us once again at Fordhouses Cricket Club. Whether you’re returning for round two or giving our quiz nights a try for the first time\, you’re in for a warm welcome and a lively atmosphere. \nEntry: £5 per person | Teams of 4(This ticket admits a team of four for £20 plus a 50p booking fee.) \nExpect more raffles\, extra games and opportunities to test your knowledge — and your teamwork! \nWe look forward to seeing you there.For team enquiries\, contact give@havenrefuge.org.uk \n\n\n\n\n\n\nImportant Information\nThe bar will be fully stocked with all of your favourite drinks\, crisps and nuts – but please note\, due to the change in venue\, meal orders are no longer possible. Unfortunately\, refunds are not available on team bookings\, however\, if you are not able to make it\, we are happy to transfer your booking to a future quiz night. \nPhotography \n\n\nPlease note\, we will be taking photos and videos on the night of the event. There will be a sign displayed during the event to state this. Photos and videos taken at the event may be used to promote the success of the event and may be shared with third parties (such as local media outlets) to promote future events too. If you do not wish to be included in photos/videos\, please make yourself known to attending photographers\, and to the relevant Haven staff member at any time during the event. On occasion\, The Haven will use external photographers for events who own the official copyright of images. Photography agreements are in place with all photographers used at Haven events to minimise any misuse of imagery and ensure we are being transparent with how your photos are used in line with our GDPR policy. \n  \n 
URL:https://www.havenrefuge.org.uk/event/haven-quiz-night-april-2026/
LOCATION:Fordhouses Cricket Club\, Wobaston Road\, Wolverhampton\, WV9 5HH\, Fordhouses Cricket Club\, Wolverhampton\, WV9 5HH\, United Kingdom
CATEGORIES:Events,Quiz
ATTACH;FMTTYPE=image/png:https://www.havenrefuge.org.uk/wp-content/uploads/2025/12/The-Haven-Website-Fundraising-Events-Header-Templates-1.png
ORGANIZER;CN="The Haven Fundraising":MAILTO:give@havenrefuge.org.uk
END:VEVENT
END:VCALENDAR