BEGIN:VCALENDAR
VERSION:2.0
PRODID:-//The Haven - ECPv6.15.20//NONSGML v1.0//EN
CALSCALE:GREGORIAN
METHOD:PUBLISH
X-WR-CALNAME:The Haven
X-ORIGINAL-URL:https://www.havenrefuge.org.uk
X-WR-CALDESC:Events for The Haven
REFRESH-INTERVAL;VALUE=DURATION:PT1H
X-Robots-Tag:noindex
X-PUBLISHED-TTL:PT1H
BEGIN:VTIMEZONE
TZID:Europe/London
BEGIN:DAYLIGHT
TZOFFSETFROM:+0000
TZOFFSETTO:+0100
TZNAME:BST
DTSTART:20200329T010000
END:DAYLIGHT
BEGIN:STANDARD
TZOFFSETFROM:+0100
TZOFFSETTO:+0000
TZNAME:GMT
DTSTART:20201025T010000
END:STANDARD
BEGIN:DAYLIGHT
TZOFFSETFROM:+0000
TZOFFSETTO:+0100
TZNAME:BST
DTSTART:20210328T010000
END:DAYLIGHT
BEGIN:STANDARD
TZOFFSETFROM:+0100
TZOFFSETTO:+0000
TZNAME:GMT
DTSTART:20211031T010000
END:STANDARD
BEGIN:DAYLIGHT
TZOFFSETFROM:+0000
TZOFFSETTO:+0100
TZNAME:BST
DTSTART:20220327T010000
END:DAYLIGHT
BEGIN:STANDARD
TZOFFSETFROM:+0100
TZOFFSETTO:+0000
TZNAME:GMT
DTSTART:20221030T010000
END:STANDARD
END:VTIMEZONE
BEGIN:VEVENT
DTSTART;TZID=Europe/London:20210923T140000
DTEND;TZID=Europe/London:20210923T163000
DTSTAMP:20260422T131244
CREATED:20210907T163728Z
LAST-MODIFIED:20210907T183049Z
UID:10000116-1632405600-1632414600@www.havenrefuge.org.uk
SUMMARY:Domestic Abuse Awareness Webinar
DESCRIPTION:About this Event\n\n\nThe webinar will provide attendees with information and guidance on domestic abuse\, provide a safe space for discussions and provide follow up information that can be utilised after the training. \nThe course covers a wide range of topics such as: \n• Types of domestic violence and abuse. \n• Risk factors for domestic abuse. \n• Key principles for helping victims. \n• The impact of domestic abuse on children\, young people and vulnerable adults. \n• Barriers to seeking help\, and how to address them. \nThe training will enable you to better understand the realities and prevalence of domestic abuse\, using statistics\, legislation and the government definition. \nIt explores the nature of domestic abuse and enables you to identify behaviours\, recognise signs and how this behaviour impacts the victim using real life case studies. \nIt explores the effects domestic abuse has on children and identifies the societal myths to understand the barriers that stand in the way of a person leaving an abusive relationship. \nYou will be able to develop strategies to respond sensitively and confidently to a person who is experiencing domestic abuse and know how to source the appropriate support. \nThe training is written at an introductory level and is suitable for EVERYONE. It will be beneficial for employees\, managers\, people who feel they may know someone being subjected to domestic abuse\, individuals who feel they may need support or someone considering how they can implement domestic abuse knowledge\, training and/or policies into their organisation. \nThe training is a recognised CPD (Continuing Professional Development) Training. Once completed\, attendees will receive a CPD certificate. \nAbout your Facilitator: Rebecca Matthews is a Training Manager from The Haven Wolverhampton who holds a Professional Graduate Certificate in Education (ProfGCE) qualification and has over twenty-five years of experience in delivering training courses and working with women and children who have experienced abuse. \nThis webinar will be accessed through MS Teams\, prior to the sessions please check you have access to MS Teams and that you have picture and sound on your device. No refunds will be issued\, but tickets can be transferred to events of equivalent value.
URL:https://www.havenrefuge.org.uk/event/domestic-abuse-awareness-webinar-sep-23/
LOCATION:Online
CATEGORIES:Online Training,Training
ORGANIZER;CN="The Haven Training":MAILTO:training@havenrefuge.org.uk
END:VEVENT
BEGIN:VEVENT
DTSTART;TZID=Europe/London:20210528T103000
DTEND;TZID=Europe/London:20210528T113000
DTSTAMP:20260422T131244
CREATED:20210508T095442Z
LAST-MODIFIED:20210520T112518Z
UID:10000120-1622197800-1622201400@www.havenrefuge.org.uk
SUMMARY:Domestic Abuse Employer Awareness Webinar
DESCRIPTION:About this Event\n\n\n\n\n\nThis is a FREE event about our Purple Pledge campaign.\nAre you an employer that needs a Domestic Abuse policy and training to support your staff?\n\n\n\nWe are encouraging businesses and organisations to have a Domestic Abuse Policy and Domestic Abuse Workplace Champions to support their employees. For the past 20 years we have been training individuals as well as businesses and organisations and noted the following: \n• The lack of policies in place in many organisations. \n• The lack of ‘experts’ to support Domestic Abuse – many organisations have Safeguarding Officers and Mental Health First Aiders\, but not Domestic Abuse Workplace Champions. \nOur Purple Pledge campaign is based around: \n• Ensuring that employees know how to support and respond to colleagues. \n• Ensuring that managers and HR have more knowledge about Domestic Abuse to support employees. \n• Ensuring that organisations show they are a zero-tolerance company when it comes to Domestic Abuse. \nThe Purple Pledge will help employers: \nRaise awareness – through the delivery of accredited training of HR\, line managers\, relevant teams and Domestic Abuse Workplace Champions. \nDevelop and introduce measures – to build a framework to best assist employees who are being subjected to domestic abuse or perpetrators who have disclosed or being identified. \nProvide consistent and holistic support – to employees who disclose they are being or have been subjected to domestic abuse. \nReview their current responses to domestic abuse – through the assessment of what policies and procedures are already in place and what we can help implement or improve. \nEnsure the health and safety of employees – through following your duty of care (H&S Work Act) you will ensure that staff work in a safe environment which takes all aspects of wellbeing into account. \nShow they are a zero-tolerance employer – when it comes to domestic abuse. \nBe part of a group of organisations – who share best practice around employee wellbeing. \nCommunicate internally and externally – about what The Purple Pledge is and what it means to everyone. \nWhat The Purple Pledge means for employees: \nBy joining The Purple Pledge Campaign\, your employers are making a serious commitment to providing a safe space for victims to disclose domestic abuse issues and to ensure that everyone is in touch with the right organisations. \nThey are also making a commitment to help stop the stigma that is often associated with domestic abuse and help people to have difficult conversations with each other. They want every person in their workplace to feel comfortable raising concerns around domestic abuse. \nThis event is for employers who want to introduce or improve the support they give to employees being subjected to\, or who are survivors of Domestic Abuse. \nThis event is also for employees who would like to see more support and awareness around Domestic Abuse in their workplace. \nThe event will be via MS Teams\, a joining link will be forwarded to attendees the day before\, a short Q&A session will take place at the end\, but all questions will be fully answered to attendees after the event.
URL:https://www.havenrefuge.org.uk/event/domestic-abuse-employer-awareness-webinar-may-28/
LOCATION:Online
CATEGORIES:Online Training,Training
ATTACH;FMTTYPE=image/jpeg:https://www.havenrefuge.org.uk/wp-content/uploads/2021/05/Domestic-Abuse-Employer-Awreness-Webinar-Purple-Pledge-2.jpg
ORGANIZER;CN="The Haven Training":MAILTO:training@havenrefuge.org.uk
END:VEVENT
END:VCALENDAR