BEGIN:VCALENDAR
VERSION:2.0
PRODID:-//The Haven - ECPv6.15.20//NONSGML v1.0//EN
CALSCALE:GREGORIAN
METHOD:PUBLISH
X-WR-CALNAME:The Haven
X-ORIGINAL-URL:https://www.havenrefuge.org.uk
X-WR-CALDESC:Events for The Haven
REFRESH-INTERVAL;VALUE=DURATION:PT1H
X-Robots-Tag:noindex
X-PUBLISHED-TTL:PT1H
BEGIN:VTIMEZONE
TZID:Europe/London
BEGIN:DAYLIGHT
TZOFFSETFROM:+0000
TZOFFSETTO:+0100
TZNAME:BST
DTSTART:20240331T010000
END:DAYLIGHT
BEGIN:STANDARD
TZOFFSETFROM:+0100
TZOFFSETTO:+0000
TZNAME:GMT
DTSTART:20241027T010000
END:STANDARD
BEGIN:DAYLIGHT
TZOFFSETFROM:+0000
TZOFFSETTO:+0100
TZNAME:BST
DTSTART:20250330T010000
END:DAYLIGHT
BEGIN:STANDARD
TZOFFSETFROM:+0100
TZOFFSETTO:+0000
TZNAME:GMT
DTSTART:20251026T010000
END:STANDARD
BEGIN:DAYLIGHT
TZOFFSETFROM:+0000
TZOFFSETTO:+0100
TZNAME:BST
DTSTART:20260329T010000
END:DAYLIGHT
BEGIN:STANDARD
TZOFFSETFROM:+0100
TZOFFSETTO:+0000
TZNAME:GMT
DTSTART:20261025T010000
END:STANDARD
END:VTIMEZONE
BEGIN:VEVENT
DTSTART;TZID=Europe/London:20251204T190000
DTEND;TZID=Europe/London:20251204T220000
DTSTAMP:20260421T163207
CREATED:20250128T142100Z
LAST-MODIFIED:20251014T121458Z
UID:10000235-1764874800-1764885600@www.havenrefuge.org.uk
SUMMARY:Haven Quiz Night - December 2025
DESCRIPTION:Join us on Thursday 4th December for the finale of our 2025 Haven quiz nights – CHRISTMAS STYLE! \n\n\n\n\n\nWe are really looking forward to welcoming you along to the last of our 2025 Haven quiz night’s. On Thursday 4th December\, Quiz Master Steve Saul will be back for a festive edition\, bringing you a night of questions and mid-week entertainment – with our normal rounds of questioning – plus a Christmas themed round – all kindly sponsored by Paycare. \nGrab your friends\, family or colleagues and join us at The Pavillion. Whether you are a long standing attendee\, or a newbie – there will be lots of fun to be had. \nEntry is £5 per person in teams of 4. (This ticket includes admission for a team of 4 people to our Haven Quiz Night for £20 – plus a 50p booking fee.) There will also be a raffle and some extra games too. \n Don’t forget to wear your Christmas attire\, hats and jumpers welcome\, there’s a prize for the best dressed. \nWe can’t wait to see you soon!\nContact us at give@havenrefuge.org.uk for any team enquiries \n\n\n\nImportant Information\nThe bar will be fully stocked with all of your favourite drinks\, crisps and nuts – but please note\, due to the change in venue\, meal orders are no longer possible. Unfortunately\, refunds are not available on team bookings. \nPhotography \n\n\nPlease note\, we will be taking photos and videos on the night of the event. There will be a sign displayed during the event to state this. Photos and videos taken at the event may be used to promote the success of the event and may be shared with third parties (such as local media outlets) to promote future events too. If you do not wish to be included in photos/videos\, please make yourself known to attending photographers\, and to the relevant Haven staff member at any time during the event. On occasion\, The Haven will use external photographers for events who own the official copyright of images. Photography agreements are in place with all photographers used at Haven events to minimise any misuse of imagery and ensure we are being transparent with how your photos are used in line with our GDPR policy
URL:https://www.havenrefuge.org.uk/event/haven-quiz-night-december-2025/
LOCATION:The Pavilion Club\, 412 Stafford Road\, Wolverhampton\, WV10 6AJ
CATEGORIES:Events,Quiz
ATTACH;FMTTYPE=image/png:https://www.havenrefuge.org.uk/wp-content/uploads/2025/01/The-Haven-Website-Fundraising-Events-Header-Templates-4.png
ORGANIZER;CN="The Haven Fundraising":MAILTO:give@havenrefuge.org.uk
END:VEVENT
END:VCALENDAR