BEGIN:VCALENDAR
VERSION:2.0
PRODID:-//The Haven - ECPv6.15.20//NONSGML v1.0//EN
CALSCALE:GREGORIAN
METHOD:PUBLISH
X-ORIGINAL-URL:https://www.havenrefuge.org.uk
X-WR-CALDESC:Events for The Haven
REFRESH-INTERVAL;VALUE=DURATION:PT1H
X-Robots-Tag:noindex
X-PUBLISHED-TTL:PT1H
BEGIN:VTIMEZONE
TZID:Europe/London
BEGIN:DAYLIGHT
TZOFFSETFROM:+0000
TZOFFSETTO:+0100
TZNAME:BST
DTSTART:20240331T010000
END:DAYLIGHT
BEGIN:STANDARD
TZOFFSETFROM:+0100
TZOFFSETTO:+0000
TZNAME:GMT
DTSTART:20241027T010000
END:STANDARD
BEGIN:DAYLIGHT
TZOFFSETFROM:+0000
TZOFFSETTO:+0100
TZNAME:BST
DTSTART:20250330T010000
END:DAYLIGHT
BEGIN:STANDARD
TZOFFSETFROM:+0100
TZOFFSETTO:+0000
TZNAME:GMT
DTSTART:20251026T010000
END:STANDARD
BEGIN:DAYLIGHT
TZOFFSETFROM:+0000
TZOFFSETTO:+0100
TZNAME:BST
DTSTART:20260329T010000
END:DAYLIGHT
BEGIN:STANDARD
TZOFFSETFROM:+0100
TZOFFSETTO:+0000
TZNAME:GMT
DTSTART:20261025T010000
END:STANDARD
END:VTIMEZONE
BEGIN:VEVENT
DTSTART;TZID=Europe/London:20250607T090000
DTEND;TZID=Europe/London:20250608T180000
DTSTAMP:20260422T005452
CREATED:20240509T105017Z
LAST-MODIFIED:20250409T092738Z
UID:10000211-1749286800-1749405600@www.havenrefuge.org.uk
SUMMARY:Leap of Legends - #TeamHaven 2025 Skydive Weekend
DESCRIPTION:About this Event\n\n\n\n\n\nAre you an adrenaline junkie always looking for the next challenge? Perhaps you or someone you know has taken part in one of our 2023/2024 skydive challenges and you’re feeling inspired? Or maybe you are just looking for the next BIG thing to tick off your bucket list. Well then WE NEED YOU!! Join us at Langar Airfield in Nottingham\, in June 2025. You could be a part of a fantastic team taking on an incredible challenge all to raise vital funds for women and children fleeing domestic abuse and homelessness. \nYou can feel the thrill of a 14\,000ft freefall skydive\, take in the glorious sights from way above\, feel a full adrenaline rush as you reach a 120mph velocity before gently gliding to the ground under the parachute. So many of our previous skydivers can vouch for the amazing adrenaline rush and lifelong memories this challenge will give you. What’s more\, every penny raised will be helping to ensure more vulnerable women and children can flee to safety\, and access the vital care and support services they need to rebuild their lives following the trauma of abuse. So\, are you ready to be a part of the team? \n     \n\n\nAll skydives include: \n\n\n\nA fully qualified parachuting instructor\nTraining session before your jump\nMemories to last a lifetime\n\nSo whether you are an individual looking for a big bucket list tick\, a group of friends looking for a fun day out\, a business looking for a team building activity\, or a returning Jump 50 challenger looking to re-live that amazing adrenaline rush – this could be the event for you! \n\nOur skydive challenge is taking place over a weekend\, so choose the date which suits you best when booking\, (time-slots will be arranged closer to the jump date). For each skydive\, there is a £45 registration fee (non-refundable) and you are committing to additionally raising a minimum of £395 in sponsorship (80% of your funds must be raised 4 weeks prior to your jump). Signing up early also means that you have even more time to fundraise! Our friendly fundraising team are on hand to support you along your fundraising journey with ideas and support – don’t be afraid to get in touch and ask any questions before signing up too – we are here to help (give@havenrefuge.org.uk). \n\nSo… what are you waiting for? Ready to join Team Haven for the ultimate adrenaline thrill?! Sign up below! \n\n\n\n\nIMPORTANT INFORMATION \n\n\nPlease note: \n\nfor tandem skydives there is a MAXIMUM WEIGHT (fully clothed) of 95 kg (15 stone) or 83 kg if you are less than 163cm (5ft 4in). This limit is in place for your own safety\nWe are using a third party company for this event and so by signing up to take part\, The Haven will need to share your personal details with the third party company. Only relevant details will be shared and you can read more about how we manage your data here.\n\n\nPhotography \n\n\nPlease note\, we will be taking photos and videos at this event (ground based only). There will be a sign displayed during the event to state this. Photos and videos taken at the event may be used to promote the success of the event and may be shared with third parties (such as local media outlets) to promote future events too. If you do not wish to be included in photos/videos\, please make yourself known to attending photographers\, and to the relevant Haven staff member at any time during the event. On occasion\, The Haven will use external photographers for events who own the official copyright of images. Photography agreements are in place with all photographers used at Haven events to minimise any misuse of imagery and ensure we are being transparent with how your photos are used in line with our GDPR policy. Additional options for photography and videography are available directly via the airfield – we will share further details on how to book this when you sign up. If you are happy to share any of your personal photos with us\, please note\, the above information will apply in terms of how we use them).
URL:https://www.havenrefuge.org.uk/event/leapoflegends/
LOCATION:Langar Airfield\, Langar Airfield Harby Rd Langar\, Nottingham\, NG13 9HY\, United Kingdom
CATEGORIES:Events,Sponsored Challenge
ATTACH;FMTTYPE=image/png:https://www.havenrefuge.org.uk/wp-content/uploads/2024/05/web-image-4.png
ORGANIZER;CN="The Haven Fundraising":MAILTO:give@havenrefuge.org.uk
END:VEVENT
BEGIN:VEVENT
DTSTART;TZID=Europe/London:20250619T190000
DTEND;TZID=Europe/London:20250619T220000
DTSTAMP:20260422T005452
CREATED:20250128T141017Z
LAST-MODIFIED:20250610T071522Z
UID:10000233-1750359600-1750370400@www.havenrefuge.org.uk
SUMMARY:Haven Quiz Night - June 2025
DESCRIPTION:Join us for the third in the series of our 2025 Haven quiz nights! \n\n\n\n\n\nWe are really looking forward to welcoming you back to the first of our 2025 Haven quiz night’s. Quiz Master Steve Saul will be back for the usual night of entertainment\, bringing you a night of questions and mid-week fun – all kindly sponsored by Paycare. \nGrab your friends\, family or colleagues and join us at Fordhouses Cricket Club. Whether you are a long standing attendee\, or a newbie – there will be lots of fun to be had. \nEntry is £5 per person in teams of 4. (This ticket includes admission for a team of 4 people to our Haven Quiz Night for £20 – plus a 50p booking fee.) There will also be a raffle and some extra games too. \nWe can’t wait to see you soon!\nContact us at give@havenrefuge.org.uk for any team enquiries \n\n\n\nImportant Information\nThe bar will be fully stocked with all of your favourite drinks\, crisps and nuts – but please note\, due to the change in venue\, meal orders are no longer possible. Unfortunately\, refunds are not available on team bookings\, however\, if you are not able to make it\, we are happy to transfer your booking to a future quiz night. \nPhotography \n\n\nPlease note\, we will be taking photos and videos on the night of the event. There will be a sign displayed during the event to state this. Photos and videos taken at the event may be used to promote the success of the event and may be shared with third parties (such as local media outlets) to promote future events too. If you do not wish to be included in photos/videos\, please make yourself known to attending photographers\, and to the relevant Haven staff member at any time during the event. On occasion\, The Haven will use external photographers for events who own the official copyright of images. Photography agreements are in place with all photographers used at Haven events to minimise any misuse of imagery and ensure we are being transparent with how your photos are used in line with our GDPR policy. \n  \n 
URL:https://www.havenrefuge.org.uk/event/haven-quiz-night-june-2025/
LOCATION:Fordhouses Cricket Club\, Wobaston Road\, Wolverhampton\, WV9 5HH\, Fordhouses Cricket Club\, Wolverhampton\, WV9 5HH\, United Kingdom
CATEGORIES:Events,Quiz
ATTACH;FMTTYPE=image/png:https://www.havenrefuge.org.uk/wp-content/uploads/2022/12/The-Haven-Website-Fundraising-Events-Images-15.png
ORGANIZER;CN="The Haven Fundraising":MAILTO:give@havenrefuge.org.uk
END:VEVENT
END:VCALENDAR