BEGIN:VCALENDAR
VERSION:2.0
PRODID:-//The Haven - ECPv6.15.20//NONSGML v1.0//EN
CALSCALE:GREGORIAN
METHOD:PUBLISH
X-ORIGINAL-URL:https://www.havenrefuge.org.uk
X-WR-CALDESC:Events for The Haven
REFRESH-INTERVAL;VALUE=DURATION:PT1H
X-Robots-Tag:noindex
X-PUBLISHED-TTL:PT1H
BEGIN:VTIMEZONE
TZID:Europe/London
BEGIN:DAYLIGHT
TZOFFSETFROM:+0000
TZOFFSETTO:+0100
TZNAME:BST
DTSTART:20240331T010000
END:DAYLIGHT
BEGIN:STANDARD
TZOFFSETFROM:+0100
TZOFFSETTO:+0000
TZNAME:GMT
DTSTART:20241027T010000
END:STANDARD
BEGIN:DAYLIGHT
TZOFFSETFROM:+0000
TZOFFSETTO:+0100
TZNAME:BST
DTSTART:20250330T010000
END:DAYLIGHT
BEGIN:STANDARD
TZOFFSETFROM:+0100
TZOFFSETTO:+0000
TZNAME:GMT
DTSTART:20251026T010000
END:STANDARD
BEGIN:DAYLIGHT
TZOFFSETFROM:+0000
TZOFFSETTO:+0100
TZNAME:BST
DTSTART:20260329T010000
END:DAYLIGHT
BEGIN:STANDARD
TZOFFSETFROM:+0100
TZOFFSETTO:+0000
TZNAME:GMT
DTSTART:20261025T010000
END:STANDARD
END:VTIMEZONE
BEGIN:VEVENT
DTSTART;TZID=Europe/London:20250410T190000
DTEND;TZID=Europe/London:20250410T220000
DTSTAMP:20260422T040132
CREATED:20250303T115758Z
LAST-MODIFIED:20250303T115940Z
UID:10000232-1744311600-1744322400@www.havenrefuge.org.uk
SUMMARY:Haven Quiz Night - April 2025
DESCRIPTION:Join us for the second in the series of our 2025 Haven quiz nights! \n\n\n\n\n\nWe are really looking forward to welcoming you back to the first of our 2025 Haven quiz night’s. Quiz Master Steve Saul will be back for the usual night of entertainment\, bringing you a night of questions and mid-week fun – all kindly sponsored by Paycare. \nGrab your friends\, family or colleagues and join us at Fordhouses Cricket Club. Whether you are a long standing attendee\, or a newbie – there will be lots of fun to be had. \nEntry is £5 per person in teams of 4. (This ticket includes admission for a team of 4 people to our Haven Quiz Night for £20 – plus a 50p booking fee.) There will also be a raffle and some extra games too. \nWe can’t wait to see you soon!\nContact us at give@havenrefuge.org.uk for any team enquiries \n\n\n\nImportant Information\nThe bar will be fully stocked with all of your favourite drinks\, crisps and nuts – but please note\, due to the change in venue\, meal orders are no longer possible. Unfortunately\, refunds are not available on team bookings\, however\, if you are not able to make it\, we are happy to transfer your booking to a future quiz night. \nPhotography \n\n\nPlease note\, we will be taking photos and videos on the night of the event. There will be a sign displayed during the event to state this. Photos and videos taken at the event may be used to promote the success of the event and may be shared with third parties (such as local media outlets) to promote future events too. If you do not wish to be included in photos/videos\, please make yourself known to attending photographers\, and to the relevant Haven staff member at any time during the event. On occasion\, The Haven will use external photographers for events who own the official copyright of images. Photography agreements are in place with all photographers used at Haven events to minimise any misuse of imagery and ensure we are being transparent with how your photos are used in line with our GDPR policy. \n  \n 
URL:https://www.havenrefuge.org.uk/event/haven-quiz-night-april-2025-2/
LOCATION:Fordhouses Cricket Club\, Wobaston Road\, Wolverhampton\, WV9 5HH\, Fordhouses Cricket Club\, Wolverhampton\, WV9 5HH\, United Kingdom
CATEGORIES:Events,Quiz
ATTACH;FMTTYPE=image/png:https://www.havenrefuge.org.uk/wp-content/uploads/2022/12/The-Haven-Website-Fundraising-Events-Images-15.png
ORGANIZER;CN="The Haven Fundraising":MAILTO:give@havenrefuge.org.uk
END:VEVENT
BEGIN:VEVENT
DTSTART;TZID=Europe/London:20250423T093000
DTEND;TZID=Europe/London:20250423T130000
DTSTAMP:20260422T040132
CREATED:20250126T232423Z
LAST-MODIFIED:20250128T092124Z
UID:10000215-1745400600-1745413200@www.havenrefuge.org.uk
SUMMARY:An Introduction to Domestic Abuse Webinar
DESCRIPTION:About this training:\nOverview: This course provides an introduction to the fundamentals of domestic abuse awareness. Participants will learn to identify signs of domestic abuse\, understand its various forms\, and become familiar with the resources available to support victims. This course is ideal for individuals who seek a foundational understanding of domestic abuse and how to create safe environments for those affected. \nLearning Outcomes: \n\nUnderstand Domestic Abuse and what forms it can take.\nBasic awareness of any new or emerging legislation.\nRecognise the signs\, behaviours and indicators of Domestic Abuse.\nUnderstand the impact of Domestic Abuse on adults and children.\nUnderstand the barriers victims may face when reporting issues and accessing support.\nRespond to a disclosure of domestic abuse in a trauma informed way.\n\n  \nIMPORTANT NOTICE: Please note that this training event is subject to minimum attendance requirements. In the event that the minimum attendee target is not met\, the training may be cancelled. In such cases\, all registered participants will be notified promptly and provided with a full refund. We appreciate your understanding and cooperation in this matter.
URL:https://www.havenrefuge.org.uk/event/introduction-to-domestic-abuse-webinar-23-april-domestic-abuse-awareness-training/
LOCATION:Online
CATEGORIES:DAIN,Online Training
ATTACH;FMTTYPE=image/png:https://www.havenrefuge.org.uk/wp-content/uploads/2025/01/Domestic-Abuse-An-Introduction-Webinar.png
ORGANIZER;CN="The Haven Training":MAILTO:training@havenrefuge.org.uk
END:VEVENT
END:VCALENDAR