BEGIN:VCALENDAR
VERSION:2.0
PRODID:-//The Haven - ECPv6.15.20//NONSGML v1.0//EN
CALSCALE:GREGORIAN
METHOD:PUBLISH
X-WR-CALNAME:The Haven
X-ORIGINAL-URL:https://www.havenrefuge.org.uk
X-WR-CALDESC:Events for The Haven
REFRESH-INTERVAL;VALUE=DURATION:PT1H
X-Robots-Tag:noindex
X-PUBLISHED-TTL:PT1H
BEGIN:VTIMEZONE
TZID:Europe/London
BEGIN:DAYLIGHT
TZOFFSETFROM:+0000
TZOFFSETTO:+0100
TZNAME:BST
DTSTART:20220327T010000
END:DAYLIGHT
BEGIN:STANDARD
TZOFFSETFROM:+0100
TZOFFSETTO:+0000
TZNAME:GMT
DTSTART:20221030T010000
END:STANDARD
BEGIN:DAYLIGHT
TZOFFSETFROM:+0000
TZOFFSETTO:+0100
TZNAME:BST
DTSTART:20230326T010000
END:DAYLIGHT
BEGIN:STANDARD
TZOFFSETFROM:+0100
TZOFFSETTO:+0000
TZNAME:GMT
DTSTART:20231029T010000
END:STANDARD
BEGIN:DAYLIGHT
TZOFFSETFROM:+0000
TZOFFSETTO:+0100
TZNAME:BST
DTSTART:20240331T010000
END:DAYLIGHT
BEGIN:STANDARD
TZOFFSETFROM:+0100
TZOFFSETTO:+0000
TZNAME:GMT
DTSTART:20241027T010000
END:STANDARD
BEGIN:DAYLIGHT
TZOFFSETFROM:+0000
TZOFFSETTO:+0100
TZNAME:BST
DTSTART:20250330T010000
END:DAYLIGHT
BEGIN:STANDARD
TZOFFSETFROM:+0100
TZOFFSETTO:+0000
TZNAME:GMT
DTSTART:20251026T010000
END:STANDARD
END:VTIMEZONE
BEGIN:VEVENT
DTSTART;VALUE=DATE:20231001
DTEND;VALUE=DATE:20250101
DTSTAMP:20260422T114150
CREATED:20231120T222801Z
LAST-MODIFIED:20240314T142655Z
UID:10000194-1696118400-1735689599@www.havenrefuge.org.uk
SUMMARY:The Purple Pledge - Domestic Abuse & Employment Conference DIGITAL DOWNLOAD
DESCRIPTION:About this Event\n\n\nOverview: \nMissed out on attending our latest conference? Well do not fear; you can now get access to a digital version of the day\, filmed live! \nYou will be able to revisit the day or experience it as if you were there and hear from our amazing speakers all from the comfort of your own home. \nOn the day we heard from an amazing variety of experts in their fields\, including: \n\nJess Phillips MP\, Shadow Minister for Domestic Violence and Safeguarding\nTom McNeil\, Strategic Adviser to the West Midlands Police & Crime Commissioner\nRichard Port MBE\, Family Law Partner at George Green LLP\nRuby Marie\, Author and Survivor\nDawn Dines\, Founder and CEO of Stamp out Spiking\nTara Dunne for OurFamilyWizard\, co-parenting app\nCllr Arnold England\, Mayor of Telford and Wrekin and a Survivor\nMark Brookes\, CEO of Mankind\n\nAll brought together and hosted by our very own Tracey Secker\, commercial development manager for the Haven’s CIC. \nWe also have exclusive demonstrations featuring two amazing female-led organisations: Sadie Jones from She Beasts\, and Kay Boyce from Fearless Female Education. \nTickets can be redeemed at any point and are yours to access forever. \nUpon purchasing\, you will be given a password to access the video which you must not share. It is against the law to share\, distribute or reupload any part of the conference without our express permission. \nNote applicable to purchases made from REED.co.uk: \nUnder this policy\, you may cancel your purchase of the course within the period of 14 calendar days from the date you purchased it. This is called a cancellation\, or ‘cooling off’\, period. \nIf you redeem the course during the cancellation period\, you acknowledge that you lose your right to cancel the purchase of the course and will be unable to receive a refund. \nAll refunds must be processed through your account on Reed.co.uk.
URL:https://www.havenrefuge.org.uk/event/the-purple-pledge-domestic-abuse-employment-conference-digital/
LOCATION:Online
CATEGORIES:Conference,Training
ATTACH;FMTTYPE=image/png:https://www.havenrefuge.org.uk/wp-content/uploads/2023/11/Domestic-Abuse-Awareness-Webinar-3.png
ORGANIZER;CN="The Haven Training":MAILTO:training@havenrefuge.org.uk
END:VEVENT
BEGIN:VEVENT
DTSTART;TZID=Europe/London:20241204T190000
DTEND;TZID=Europe/London:20241204T220000
DTSTAMP:20260422T114150
CREATED:20240424T124228Z
LAST-MODIFIED:20240613T083325Z
UID:10000209-1733338800-1733349600@www.havenrefuge.org.uk
SUMMARY:Haven Quiz Night - December 2024
DESCRIPTION:Join us this December for the finale of our 2024 Haven quiz nights – CHRISTMAS STYLE! \n\n\n\n\n\nWe are really looking forward to welcoming you along to the last of our 2024 Haven quiz night’s. Quiz Masters Steve Saul and Dicky Dodd will both be back for a festive edition\, bringing you a night of questions and mid-week entertainment – with our normal rounds of questioning – plus a Christmas themed round – all kindly sponsored by Paycare. \nGrab your friends\, family or colleagues and join us at Fordhouses Cricket Club. Whether you are a long standing attendee\, or a newbie – there will be lots of fun to be had. \nEntry is £5 per person in teams of 4. (This ticket includes admission for a team of 4 people to our Haven Quiz Night for £20 – plus a 50p booking fee.) There will also be a raffle and some extra games too. \n Don’t forget to wear your Christmas attire\, hats and jumpers welcome\, there’s a prize for the best dressed. \nWe can’t wait to see you soon!\nContact us at give@havenrefuge.org.uk for any team enquiries \n\n\n\nImportant Information\nThe bar will be fully stocked with all of your favourite drinks\, crisps and nuts – but please note\, due to the change in venue\, meal orders are no longer possible. Unfortunately\, refunds are not available on team bookings. \nPhotography \n\n\nPlease note\, we will be taking photos and videos on the night of the event. There will be a sign displayed during the event to state this. Photos and videos taken at the event may be used to promote the success of the event and may be shared with third parties (such as local media outlets) to promote future events too. If you do not wish to be included in photos/videos\, please make yourself known to attending photographers\, and to the relevant Haven staff member at any time during the event. On occasion\, The Haven will use external photographers for events who own the official copyright of images. Photography agreements are in place with all photographers used at Haven events to minimise any misuse of imagery and ensure we are being transparent with how your photos are used in line with our GDPR policy
URL:https://www.havenrefuge.org.uk/event/haven-quiz-night-dec-2024/
LOCATION:Fordhouses Cricket Club\, Wobaston Road\, Wolverhampton\, WV9 5HH\, Fordhouses Cricket Club\, Wolverhampton\, WV9 5HH\, United Kingdom
CATEGORIES:Events,Quiz
ATTACH;FMTTYPE=image/png:https://www.havenrefuge.org.uk/wp-content/uploads/2023/04/xmas-website.png
ORGANIZER;CN="The Haven Fundraising":MAILTO:give@havenrefuge.org.uk
END:VEVENT
END:VCALENDAR