BEGIN:VCALENDAR
VERSION:2.0
PRODID:-//The Haven - ECPv6.15.20//NONSGML v1.0//EN
CALSCALE:GREGORIAN
METHOD:PUBLISH
X-ORIGINAL-URL:https://www.havenrefuge.org.uk
X-WR-CALDESC:Events for The Haven
REFRESH-INTERVAL;VALUE=DURATION:PT1H
X-Robots-Tag:noindex
X-PUBLISHED-TTL:PT1H
BEGIN:VTIMEZONE
TZID:Europe/London
BEGIN:DAYLIGHT
TZOFFSETFROM:+0000
TZOFFSETTO:+0100
TZNAME:BST
DTSTART:20200329T010000
END:DAYLIGHT
BEGIN:STANDARD
TZOFFSETFROM:+0100
TZOFFSETTO:+0000
TZNAME:GMT
DTSTART:20201025T010000
END:STANDARD
BEGIN:DAYLIGHT
TZOFFSETFROM:+0000
TZOFFSETTO:+0100
TZNAME:BST
DTSTART:20210328T010000
END:DAYLIGHT
BEGIN:STANDARD
TZOFFSETFROM:+0100
TZOFFSETTO:+0000
TZNAME:GMT
DTSTART:20211031T010000
END:STANDARD
BEGIN:DAYLIGHT
TZOFFSETFROM:+0000
TZOFFSETTO:+0100
TZNAME:BST
DTSTART:20220327T010000
END:DAYLIGHT
BEGIN:STANDARD
TZOFFSETFROM:+0100
TZOFFSETTO:+0000
TZNAME:GMT
DTSTART:20221030T010000
END:STANDARD
BEGIN:DAYLIGHT
TZOFFSETFROM:+0000
TZOFFSETTO:+0100
TZNAME:BST
DTSTART:20230326T010000
END:DAYLIGHT
BEGIN:STANDARD
TZOFFSETFROM:+0100
TZOFFSETTO:+0000
TZNAME:GMT
DTSTART:20231029T010000
END:STANDARD
BEGIN:DAYLIGHT
TZOFFSETFROM:+0000
TZOFFSETTO:+0100
TZNAME:BST
DTSTART:20240331T010000
END:DAYLIGHT
BEGIN:STANDARD
TZOFFSETFROM:+0100
TZOFFSETTO:+0000
TZNAME:GMT
DTSTART:20241027T010000
END:STANDARD
END:VTIMEZONE
BEGIN:VEVENT
DTSTART;TZID=Europe/London:20230306T093000
DTEND;TZID=Europe/London:20230306T123000
DTSTAMP:20260422T090931
CREATED:20230213T133144Z
LAST-MODIFIED:20230214T105932Z
UID:10000170-1678095000-1678105800@www.havenrefuge.org.uk
SUMMARY:Telford & Wrekin Domestic Abuse Awareness
DESCRIPTION:About this Event\n\n\nThis event is free to anyone who lives and/or works in the Telford and Wrekin region. \nProgramme outline: \n\nDefinitions and an overview of the Domestic Abuse Act.\nTypes of Domestic Abuse.\nWho does Domestic Abuse affect (all ages\, genders\, relationships\, sexual orientation\, minority groups\, LBGTQ+\, BAME and refugee community\, over 55s\, those with disabilities and health issues).\nRecognising signs of Domestic Abuse.\nHow to support victims / survivors of abuse – local interventions for victims/survivors of abuse.\nUnderstanding the barriers victims may face when disclosing Domestic Abuse and accessing support.\nLocal interventions for victims/survivors of abuse.\nFurther training options.\n\n3 hours online via MS Team \nThis webinar will be accessed through MS Teams\, prior to the sessions please check you have access to MS Teams and that you have picture and sound on your device. No refunds will be issued\, but tickets can be transferred to events of equivalent value.
URL:https://www.havenrefuge.org.uk/event/telford-wrekin-domestic-abuse-awareness-6-mar/
LOCATION:Online
CATEGORIES:DAAW,Free Webinar,Training
ATTACH;FMTTYPE=image/jpeg:https://www.havenrefuge.org.uk/wp-content/uploads/2023/02/Telford-Wrekin-The-Haven-Website-Training-Webinar-Images.jpg
ORGANIZER;CN="The Haven Training":MAILTO:training@havenrefuge.org.uk
END:VEVENT
BEGIN:VEVENT
DTSTART;TZID=Europe/London:20230227T093000
DTEND;TZID=Europe/London:20230227T123000
DTSTAMP:20260422T090931
CREATED:20230213T132225Z
LAST-MODIFIED:20230214T105809Z
UID:10000171-1677490200-1677501000@www.havenrefuge.org.uk
SUMMARY:Telford & Wrekin Domestic Abuse Awareness
DESCRIPTION:About this Event\n\n\nThis event is free to anyone who lives and/or works in the Telford and Wrekin region. \nProgramme outline: \n\nDefinitions and an overview of the Domestic Abuse Act.\nTypes of Domestic Abuse.\nWho does Domestic Abuse affect (all ages\, genders\, relationships\, sexual orientation\, minority groups\, LBGTQ+\, BAME and refugee community\, over 55s\, those with disabilities and health issues).\nRecognising signs of Domestic Abuse.\nHow to support victims / survivors of abuse – local interventions for victims/survivors of abuse.\nUnderstanding the barriers victims may face when disclosing Domestic Abuse and accessing support.\nLocal interventions for victims/survivors of abuse.\nFurther training options.\n\n3 hours online via MS Team \nThis webinar will be accessed through MS Teams\, prior to the sessions please check you have access to MS Teams and that you have picture and sound on your device. No refunds will be issued\, but tickets can be transferred to events of equivalent value.
URL:https://www.havenrefuge.org.uk/event/telford-wrekin-domestic-abuse-awareness-27-feb/
LOCATION:Online
CATEGORIES:DAAW,Free Webinar,Training
ATTACH;FMTTYPE=image/jpeg:https://www.havenrefuge.org.uk/wp-content/uploads/2023/02/Telford-Wrekin-The-Haven-Website-Training-Webinar-Images.jpg
ORGANIZER;CN="The Haven Training":MAILTO:training@havenrefuge.org.uk
END:VEVENT
BEGIN:VEVENT
DTSTART;TZID=Europe/London:20230223T093000
DTEND;TZID=Europe/London:20230223T123000
DTSTAMP:20260422T090931
CREATED:20230213T114743Z
LAST-MODIFIED:20230214T105732Z
UID:10000172-1677144600-1677155400@www.havenrefuge.org.uk
SUMMARY:Telford & Wrekin Domestic Abuse Awareness
DESCRIPTION:About this Event\n\n\nThis event is free to anyone who lives and/or works in the Telford and Wrekin region. \nProgramme outline: \n\nDefinitions and an overview of the Domestic Abuse Act.\nTypes of Domestic Abuse.\nWho does Domestic Abuse affect (all ages\, genders\, relationships\, sexual orientation\, minority groups\, LBGTQ+\, BAME and refugee community\, over 55s\, those with disabilities and health issues).\nRecognising signs of Domestic Abuse.\nHow to support victims / survivors of abuse – local interventions for victims/survivors of abuse.\nUnderstanding the barriers victims may face when disclosing Domestic Abuse and accessing support.\nLocal interventions for victims/survivors of abuse.\nFurther training options.\n\n3 hours online via MS Team \nThis webinar will be accessed through MS Teams\, prior to the sessions please check you have access to MS Teams and that you have picture and sound on your device. No refunds will be issued\, but tickets can be transferred to events of equivalent value.
URL:https://www.havenrefuge.org.uk/event/telford-wrekin-domestic-abuse-awareness-webinar-23-feb/
LOCATION:Online
CATEGORIES:DAAW,Free Webinar,Training
ATTACH;FMTTYPE=image/jpeg:https://www.havenrefuge.org.uk/wp-content/uploads/2023/02/Telford-Wrekin-The-Haven-Website-Training-Webinar-Images.jpg
ORGANIZER;CN="The Haven Training":MAILTO:training@havenrefuge.org.uk
END:VEVENT
BEGIN:VEVENT
DTSTART;TZID=Europe/London:20230221T093000
DTEND;TZID=Europe/London:20230221T150000
DTSTAMP:20260422T090931
CREATED:20230213T185946Z
LAST-MODIFIED:20230213T190919Z
UID:10000168-1676971800-1676991600@www.havenrefuge.org.uk
SUMMARY:Telford & Wrekin Domestic Abuse Workplace Ambassador
DESCRIPTION:About this Event\n\n\nThis event is free to anyone who lives and/or works in the Telford and Wrekin region and has completed the 3-hour Domestic Abuse Awareness training \nProgramme outline: \n\nThe three R’s – how to Recognise\, Respond and Refer.\nThe possible indicators that someone is being subjected to Domestic Abuse.\nThe responsibilities of a Workplace Ambassador\, Managers/HR and the company.\nHow to respond to disclosures of Domestic Abuse – communication skills\, how to listen\, believe\, be safe\, and support.\nVictim blaming and language matters\nConfidentiality\, information sharing and recording\nSafety planning – in the workplace and beyond.\nA duty of care for all – how to support victims/survivors and perpetrators in the workplace.\nWhere and how to refer.\nCase studies – from our specialist support and services and from local work with providers.\n\n6 hours online via MS Team \nThis webinar will be accessed through MS Teams\, prior to the sessions please check you have access to MS Teams and that you have picture and sound on your device. No refunds are possible for this event\, but tickets are transferable to future webinars of the same value.
URL:https://www.havenrefuge.org.uk/event/telford-wrekin-domestic-abuse-workplace-ambassador-21-feb/
LOCATION:Online
CATEGORIES:DAWC,Free Webinar,Training
ATTACH;FMTTYPE=image/jpeg:https://www.havenrefuge.org.uk/wp-content/uploads/2023/02/Telford-Wrekin-The-Haven-Website-Training-Webinar-Images-1.jpg
ORGANIZER;CN="The Haven Training":MAILTO:training@havenrefuge.org.uk
END:VEVENT
BEGIN:VEVENT
DTSTART;TZID=Europe/London:20230216T093000
DTEND;TZID=Europe/London:20230216T150000
DTSTAMP:20260422T090931
CREATED:20230213T175300Z
LAST-MODIFIED:20230213T185320Z
UID:10000169-1676539800-1676559600@www.havenrefuge.org.uk
SUMMARY:Telford & Wrekin Domestic Abuse Workplace Ambassador
DESCRIPTION:About this Event\n\n\nThis event is free to anyone who lives and/or works in the Telford and Wrekin region and has completed the 3-hour Domestic Abuse Awareness training \nProgramme outline: \n\nThe three R’s – how to Recognise\, Respond and Refer.\nThe possible indicators that someone is being subjected to Domestic Abuse.\nThe responsibilities of a Workplace Ambassador\, Managers/HR and the company.\nHow to respond to disclosures of Domestic Abuse – communication skills\, how to listen\, believe\, be safe\, and support.\nVictim blaming and language matters\nConfidentiality\, information sharing and recording\nSafety planning – in the workplace and beyond.\nA duty of care for all – how to support victims/survivors and perpetrators in the workplace.\nWhere and how to refer.\nCase studies – from our specialist support and services and from local work with providers.\n\n6 hours online via MS Team \nThis webinar will be accessed through MS Teams\, prior to the sessions please check you have access to MS Teams and that you have picture and sound on your device. No refunds are possible for this event\, but tickets are transferable to future webinars of the same value.
URL:https://www.havenrefuge.org.uk/event/telford-wrekin-domestic-abuse-workplace-ambassador-16-feb/
LOCATION:Online
CATEGORIES:DAWC,Free Webinar,Training
ATTACH;FMTTYPE=image/jpeg:https://www.havenrefuge.org.uk/wp-content/uploads/2023/02/Telford-Wrekin-The-Haven-Website-Training-Webinar-Images-1.jpg
ORGANIZER;CN="The Haven Training":MAILTO:training@havenrefuge.org.uk
END:VEVENT
BEGIN:VEVENT
DTSTART;TZID=Europe/London:20211004T120000
DTEND;TZID=Europe/London:20211004T133000
DTSTAMP:20260422T090931
CREATED:20210928T153503Z
LAST-MODIFIED:20210928T160321Z
UID:10000110-1633348800-1633354200@www.havenrefuge.org.uk
SUMMARY:Awareness of mental health and domestic abuse in the workplace
DESCRIPTION:About this Event\n\n\n\n\n\nHuman Everything and The Haven Training present a joint event on Mental Health and Domestic Abuse awareness in the workplace.\n\n\n\n\n\n\n\nHuman Everything empowers businesses to build better teams and enhance mental health awareness. Through services and training\, delivered online or in person. Working with your teams to facilitate effective collaboration and positive team dynamics\, making your working world a better place. \nThere is no health without mental health. We all have mental health but conversations about it don’t always come easily. Whether it’s your employees\, your family\, your friends or yourself\, early intervention is key to supporting recovery and mitigating risk to the business. \nThis session will give attendees an appreciation of the different stages of mental health with the main takeaways being: \n\nFour broad categories of mental health.\nWarning signs of mental ill health.\nHow to start a conversation around mental ill health.\nPractical Supports and creating a plan.\nManaging others – supporting the team.\n\nThe advantage of attending this session is to gain a better understanding of managing mental ill health in your workplace and understanding what simple steps can be taken to better support your teams and your business. \nThe Haven Wolverhampton supports women and children who have been subjected to Domestic Abuse\, and women who are at risk of homelessness through accommodation\, a 24/7 helpline\, community support and programmes. These services extend out to many other parts of the community\, and their Training Department work within the business community raising awareness of Domestic Abuse and how to support in the workplace. \nThis session will give attendees an overview of Domestic Abuse\, what it looks like and supporting in the workplace. It will include: \n\nA definition of Domestic Abuse.\nLook at who is affected by Domestic Abuse.\nProvide an overview of the types of abuse.\nDiscuss what Domestic Abuse looks like?\nGo through listen\, believe\, support – what to do when someone discloses.\nBarriers to leaving.\nDiscuss why language matters.\nGive an overview of practical workplace support\, including safety planning at work and when working from home.\nDiscuss awareness\, support and policies that employers can provide in the workplace.\n\nYou will benefit from attending this session if you don’t have a Domestic Abuse Workplace Policy\, want to learn more about Domestic Abuse and how to recognise\, respond and refer\, or if you think you know someone who may need support. \nThe event will be online via Zoom and a link will be forwarded to attendees before the date. \nIf there are any queries about the event please contact training@thehavenrefuge.org.uk. There are limited numbers for this event\, so book now to secure your place.
URL:https://www.havenrefuge.org.uk/event/awareness-of-mental-health-and-domestic-abuse-in-the-workplace/
LOCATION:Online
CATEGORIES:Free Webinar,Training
ATTACH;FMTTYPE=image/jpeg:https://www.havenrefuge.org.uk/wp-content/uploads/2021/09/The-Haven-Website-Training-Webinar-Images-2.jpg
ORGANIZER;CN="The Haven Training":MAILTO:training@havenrefuge.org.uk
END:VEVENT
END:VCALENDAR